BEGIN:VCALENDAR
VERSION:2.0
PRODID:-//Site de la commune de Saint-Vaize - ECPv4.9.12//NONSGML v1.0//EN
CALSCALE:GREGORIAN
METHOD:PUBLISH
X-WR-CALNAME:Site de la commune de Saint-Vaize
X-ORIGINAL-URL:https://www.commune-saint-vaize.fr
X-WR-CALDESC:Évènements pour Site de la commune de Saint-Vaize
BEGIN:VTIMEZONE
TZID:Europe/Paris
BEGIN:DAYLIGHT
TZOFFSETFROM:+0100
TZOFFSETTO:+0200
TZNAME:CEST
DTSTART:20260329T010000
END:DAYLIGHT
BEGIN:STANDARD
TZOFFSETFROM:+0200
TZOFFSETTO:+0100
TZNAME:CET
DTSTART:20261025T010000
END:STANDARD
END:VTIMEZONE
BEGIN:VEVENT
DTSTART;VALUE=DATE:20260511
DTEND;VALUE=DATE:20260518
DTSTAMP:20260423T144816
CREATED:20260423T093154Z
LAST-MODIFIED:20260423T093154Z
UID:3533-1778457600-1779062399@www.commune-saint-vaize.fr
SUMMARY:Exposition Nouvel Oeil - XPO
DESCRIPTION:Exposition Nouvel Oeil – XPO\ndu 11 au 17 mai 2026 \nTous les jours de 13h30 à 19h00 \nSauf mercredi et samedi de 11h00 à 19h00 \nVernissage le 11 mai 2026 à 18h00 \n  \nGALERIE IMAG’IN ART \n25 rue Saint Michel  \n17100 SAINTES \n06 65 29 57 31 / 06 67 26 47 21 \n  \n \n
URL:https://www.commune-saint-vaize.fr/evenement/brocante-vide-grenier-3/
END:VEVENT
END:VCALENDAR