BEGIN:VCALENDAR
VERSION:2.0
PRODID:-//Site de la commune de Saint-Vaize - ECPv4.9.12//NONSGML v1.0//EN
CALSCALE:GREGORIAN
METHOD:PUBLISH
X-WR-CALNAME:Site de la commune de Saint-Vaize
X-ORIGINAL-URL:https://www.commune-saint-vaize.fr
X-WR-CALDESC:Évènements pour Site de la commune de Saint-Vaize
BEGIN:VTIMEZONE
TZID:Europe/Paris
BEGIN:DAYLIGHT
TZOFFSETFROM:+0100
TZOFFSETTO:+0200
TZNAME:CEST
DTSTART:20260329T010000
END:DAYLIGHT
BEGIN:STANDARD
TZOFFSETFROM:+0200
TZOFFSETTO:+0100
TZNAME:CET
DTSTART:20261025T010000
END:STANDARD
END:VTIMEZONE
BEGIN:VEVENT
DTSTART;VALUE=DATE:20260508
DTEND;VALUE=DATE:20260509
DTSTAMP:20260423T145343
CREATED:20260422T190025Z
LAST-MODIFIED:20260422T190339Z
UID:3517-1778198400-1778284799@www.commune-saint-vaize.fr
SUMMARY:Cérémonie du 8 Mai 2026
DESCRIPTION:Cérémonie du 8 Mai 2026\nPour commémorer la victoire du 8 mai 1945\, une cérémonie du souvenir se déroulera au monument aux morts à 10h30. \nUn hommage aux combattants sera rendu en musique par l’ADMS et sera suivi d’un vin d’honneur à la salle municipale \n  \n \n  \n
URL:https://www.commune-saint-vaize.fr/evenement/brocante-vide-grenier-2/
ORGANIZER;CN="Mairie":MAILTO:mairie@saint-vaize.fr
END:VEVENT
END:VCALENDAR