BEGIN:VCALENDAR
VERSION:2.0
PRODID:-//Site de la commune de Saint-Vaize - ECPv4.9.12//NONSGML v1.0//EN
CALSCALE:GREGORIAN
METHOD:PUBLISH
X-WR-CALNAME:Site de la commune de Saint-Vaize
X-ORIGINAL-URL:https://www.commune-saint-vaize.fr
X-WR-CALDESC:Évènements pour Site de la commune de Saint-Vaize
BEGIN:VTIMEZONE
TZID:Europe/Paris
BEGIN:DAYLIGHT
TZOFFSETFROM:+0100
TZOFFSETTO:+0200
TZNAME:CEST
DTSTART:20260329T010000
END:DAYLIGHT
BEGIN:STANDARD
TZOFFSETFROM:+0200
TZOFFSETTO:+0100
TZNAME:CET
DTSTART:20261025T010000
END:STANDARD
END:VTIMEZONE
BEGIN:VEVENT
DTSTART;TZID=Europe/Paris:20260330T200000
DTEND;TZID=Europe/Paris:20260330T230000
DTSTAMP:20260421T105749
CREATED:20251215T190016Z
LAST-MODIFIED:20260323T170456Z
UID:3251-1774900800-1774911600@www.commune-saint-vaize.fr
SUMMARY:Réunion du Conseil Municipal
DESCRIPTION:Convocation au conseil municipal 30 mars 2026 \n
URL:https://www.commune-saint-vaize.fr/evenement/reunion-du-conseil-municipal/
LOCATION:Salle Municipale\, 9 route de Port la Pierre\, SAINT-VAIZE\, 17100\, France
ORGANIZER;CN="Mairie":MAILTO:mairie@saint-vaize.fr
END:VEVENT
BEGIN:VEVENT
DTSTART;VALUE=DATE:20260419
DTEND;VALUE=DATE:20260420
DTSTAMP:20260421T105749
CREATED:20250219T151339Z
LAST-MODIFIED:20260409T082755Z
UID:3271-1776556800-1776643199@www.commune-saint-vaize.fr
SUMMARY:Bourse matériel de pêche
DESCRIPTION:4ème bourse de matériel de pêche\, rivière et mer\, particuliers et professionnels.\nExposants: formulaire d’inscription et règlement à imprimer sur le site : www.lagaulecharentaise@gmail.com\nBuvette et sandwichs sur place \n \n
URL:https://www.commune-saint-vaize.fr/evenement/bourse-materiel-de-peche/
LOCATION:Place de la Mairie – Parc Municipal\, SAINT-VAIZE\, 17100
CATEGORIES:Nature
ORGANIZER;CN="AAPPMA%20la%20gaule%20charentaise%2017":MAILTO:lagaulecharentaise@gmail.com
END:VEVENT
BEGIN:VEVENT
DTSTART;TZID=Europe/Paris:20260420T200000
DTEND;TZID=Europe/Paris:20260420T230000
DTSTAMP:20260421T105749
CREATED:20260415T064530Z
LAST-MODIFIED:20260415T065132Z
UID:3434-1776715200-1776726000@www.commune-saint-vaize.fr
SUMMARY:Convocation au Conseil Municipal
DESCRIPTION:Convocation au conseil municipal 20 avril 2026 \n
URL:https://www.commune-saint-vaize.fr/evenement/convocation-au-conseil-municipal/
LOCATION:Salle Municipale\, 9 route de Port la Pierre\, SAINT-VAIZE\, 17100\, France
ORGANIZER;CN="Mairie":MAILTO:mairie@saint-vaize.fr
END:VEVENT
END:VCALENDAR